BEGIN:VCALENDAR
VERSION:2.0
PRODID:ics.py - http://git.io/lLljaA
BEGIN:VEVENT
DESCRIPTION:\n\nhttps://today.coloradocollege.edu/events/9024
DTEND:20250929T230000Z
LOCATION:Sacred Grounds
DTSTART:20250929T210000Z
SUMMARY:Spirituality & Mental Health
UID:a8531ac3-eec5-470d-a0bf-55f5c9b1a0d1
END:VEVENT
END:VCALENDAR