BEGIN:VCALENDAR
VERSION:2.0
PRODID:ics.py - http://git.io/lLljaA
BEGIN:VEVENT
DESCRIPTION:\nCome enjoy some Japanese snacks and learn more about spending a semester or year studying abroad in Japan! The director of the <a href="https://japanstudy.earlham.edu/">Japan Study Program at Waseda University</a>\, Robb King\, will be visiting CC\, and he will be joined by Francesca Pizarro from CC's Japanese Program who will share about the <a href="https://www.kansaigaidai.ac.jp/asp/">Kansai Gaidai Asian Studies Program</a> semester or year! Study in Japan can work for all majors and all levels of Japanese language.\n\nStart planning now for the very early application for Waseda (due in mid-December 2025 for either semester of the 2026-2027 academic year!)\, and for Kansai Gaidai which is slightly later (October 1 for Spring 2026\, March 1 for Fall 2026). <a href="https://www.coloradocollege.edu/offices/globalandfieldstudy/global-education/semesters-off-campus/application-process.html">Apply in Summit</a>\; <a href="https://www.coloradocollege.edu/offices/globalandfieldstudy/global-education/semesters-off-campus/financial-aid-and-billing.html">Financial Aid</a> transfers to this CC partner program\, and you may apply in Summit for <a href="https://www.coloradocollege.edu/offices/globalandfieldstudy/global-education/semesters-off-campus/credit-transfer/">credits to transfer</a> towards your CC degree requirements. \n\nSee the <a href="https://www.coloradocollege.edu/offices/globalandfieldstudy/global-education/semesters-off-campus/index.html">CC Global Education</a> website for much more information/answers to FAQs related to studying abroad!\n\nhttps://today.coloradocollege.edu/events/9034
DTEND:20250903T220000Z
LOCATION:Worner 215
DTSTART:20250903T210000Z
SUMMARY:Study Abroad in Japan! Info Session
UID:17c9b138-e078-481f-bbfd-ff8f16759c97
END:VEVENT
END:VCALENDAR