BEGIN:VCALENDAR
VERSION:2.0
PRODID:ics.py - http://git.io/lLljaA
BEGIN:VEVENT
DESCRIPTION:Attend this virtual information session to hear from alum Siena Blelloch. You'll learn more about Bates White Consulting Firm\, the application process for internship and full-time opportunities\, and go through a sample case interview. Register on <a href="https://coloradocollege.joinhandshake.com/events/1789358/share_preview">Handshake</a> to receive the Zoom link.\n\nhttps://today.coloradocollege.edu/events/9053
DTEND:20250903T200000Z
LOCATION:Virtual on Handshake
DTSTART:20250903T190000Z
SUMMARY:Bates White Consulting Firm Information Session
UID:d4fbeb64-6b70-480f-b844-03546f9e457f
END:VEVENT
END:VCALENDAR