BEGIN:VCALENDAR
VERSION:2.0
PRODID:ics.py - http://git.io/lLljaA
BEGIN:VEVENT
DESCRIPTION:Board Game lovers of the World\, unite! Snacks and games in upstairs Worner.\n\nhttps://today.coloradocollege.edu/events/9057
DTEND:20250904T010000Z
LOCATION:Worner 211
DTSTART:20250903T220000Z
SUMMARY:Board Game Club
UID:60fd2f10-dc89-46e8-ba4a-b40940e3a4d0
END:VEVENT
END:VCALENDAR