BEGIN:VCALENDAR
VERSION:2.0
PRODID:ics.py - http://git.io/lLljaA
BEGIN:VEVENT
DESCRIPTION:Are you interested in <a href="https://forms.microsoft.com/Pages/ResponsePage.aspx?id=PLHHz5YSh0OzCF3gj9E8maSDJLD2h8NLj3LzMXNELZxUQ1RKTEZLMlBETjhQNUdLWDVRTDBHVFRLViQlQCN0PWcu">applying for an ACE Grant </a>and want help with your application? Visit us during office hours every Tuesday of September from 2 - 4 pm in Worner 216. Applications for fall funding are due by October 1\, 2025.\n\nhttps://today.coloradocollege.edu/events/9070
DTEND:20250909T220000Z
LOCATION:Worner 216
DTSTART:20250909T200000Z
SUMMARY:ACE Grant Office Hours
UID:4aeab58b-a1c9-4e23-a85d-0ab181eff52a
END:VEVENT
END:VCALENDAR