BEGIN:VCALENDAR
VERSION:2.0
PRODID:ics.py - http://git.io/lLljaA
BEGIN:VEVENT
DESCRIPTION:\n\nhttps://today.coloradocollege.edu/events/9095
DTEND:20260424T194500Z
LOCATION:Shove Tower (Roof)
DTSTART:20260424T191500Z
SUMMARY:Climb the Bell Tower
UID:d5fe5654-f8ee-4515-ab33-2ce9ad6806be
END:VEVENT
END:VCALENDAR