BEGIN:VCALENDAR
VERSION:2.0
PRODID:ics.py - http://git.io/lLljaA
BEGIN:VEVENT
DESCRIPTION:\n\nhttps://today.coloradocollege.edu/events/9101
DTEND:20260218T201500Z
LOCATION:Sacred Grounds
DTSTART:20260218T191500Z
SUMMARY:Shove Council
UID:f420dd04-1fc5-4a9a-833a-3214a5c6e59e
END:VEVENT
END:VCALENDAR