BEGIN:VCALENDAR
VERSION:2.0
PRODID:ics.py - http://git.io/lLljaA
BEGIN:VEVENT
DESCRIPTION:\n\nhttps://today.coloradocollege.edu/events/9103
DTEND:20260304T201500Z
LOCATION:Sacred Grounds
DTSTART:20260304T191500Z
SUMMARY:Shove Council
UID:c8f560e8-99ff-42f8-903e-fad1199ff8a8
END:VEVENT
END:VCALENDAR