BEGIN:VCALENDAR
VERSION:2.0
PRODID:ics.py - http://git.io/lLljaA
BEGIN:VEVENT
DESCRIPTION:\n\nhttps://today.coloradocollege.edu/events/9107
DTEND:20260422T191500Z
LOCATION:Sacred Grounds
DTSTART:20260422T181500Z
SUMMARY:Shove Council
UID:a76a7bfa-bfb0-4e90-87a2-8c2b288bf4cf
END:VEVENT
END:VCALENDAR