BEGIN:VCALENDAR
VERSION:2.0
PRODID:ics.py - http://git.io/lLljaA
BEGIN:VEVENT
DESCRIPTION:\nAre you exploring a semester or year of study abroad\, and have questions? Swing by our open Drop-By Advising Hour in Worner\, just outside the Rastall entrance\, Wednesday from 12pm to 1pm and get answers to all your study abroad questions!\n\nhttps://today.coloradocollege.edu/events/9111
DTEND:20250917T190000Z
LOCATION:Worner Campus Center\, near Rastall Entrance
DTSTART:20250917T180000Z
SUMMARY:Drop-By Study Abroad Semester Advising: Wednesdays\, 12-1pm!
UID:ff663d17-6789-4cab-a182-452ede196826
END:VEVENT
END:VCALENDAR