BEGIN:VCALENDAR
VERSION:2.0
PRODID:ics.py - http://git.io/lLljaA
BEGIN:VEVENT
DESCRIPTION:In the drop-in Feel and Felt\, the felt will invite us to step into ambiguity and find creative freedom. What will you discover? What will you feel? Come by on the 2nd Monday from 3-4 pm. No need to RSVP. \n\n<a href="https://www.coloradocollege.edu/offices/creativity-innovation/cspace/index.html">cSpace</a> is in the C&amp\;I building on 232 E. Cache La Poudre St. It's OPEN DAILY &amp\; OPEN TO ALL! Anyone with a Gold Card can come create in cSpace. Card holders can <a href="https://forms.office.com/Pages/ResponsePage.aspx?id=PLHHz5YSh0OzCF3gj9E8mQ6RVIZ7ZZtMu87J8p3CkPRUOUxQTVVBUjIyRk5aV1FFOEVDWVgxMVVNNCQlQCN0PWcu">take a tour</a> and be granted individual access to the building including after hours.\n\nhttps://today.coloradocollege.edu/events/9120
DTEND:20250929T220000Z
LOCATION:cSpace
DTSTART:20250929T210000Z
SUMMARY:cSpace Drop-In: Feel and Felt!
UID:9fe60393-792b-459a-b0cd-94e2e3aa4b48
END:VEVENT
END:VCALENDAR