BEGIN:VCALENDAR
VERSION:2.0
PRODID:ics.py - http://git.io/lLljaA
BEGIN:VEVENT
DESCRIPTION:\n**********************************************************************\n\n\nhttps://today.coloradocollege.edu/events/9122
DTEND:20250915T201500Z
LOCATION:Windom House
DTSTART:20250915T181500Z
SUMMARY:Costa Rica's Independence Day Lunch!
UID:1a49bf66-191a-44c5-a399-d2ac0127f44c
END:VEVENT
END:VCALENDAR