BEGIN:VCALENDAR
VERSION:2.0
PRODID:ics.py - http://git.io/lLljaA
BEGIN:VEVENT
DESCRIPTION:Please join for a concert and end-of-block party with hip hop artist Olmeca! Olmeca is a Tepehuane/Chicano multidisciplinary artist\, activist and scholar who has been featured on BBC London\, Complex Magazine\, Noisey\, Huffington Post\, and NPR. His bilingual (Spanish-English) music centers community-building\, community action for shared goals\, and spiritual transformation through art. Come enjoy a street taco bar\, music\, dancing\, and dialogue with Olmeca at 7 pm in Gaylord Hall Sept. 16!\n\nhttps://today.coloradocollege.edu/events/9127
DTEND:20250917T030000Z
LOCATION:Gaylord Hall
DTSTART:20250917T010000Z
SUMMARY:Hip Hop Celebration with Olmeca!
UID:9a6d0941-97b9-4478-a83a-51b83754ee79
END:VEVENT
END:VCALENDAR