BEGIN:VCALENDAR
VERSION:2.0
PRODID:ics.py - http://git.io/lLljaA
BEGIN:VEVENT
DESCRIPTION:After years of faithful service the Anthropology departments stuffed bear has announced their retirement. Tuesday September 16th around 10:30 am there will be a brief celebration for the bear on the 3rd floor of Barnes near the Anthropology office. Cake will be involved. All students\, staff and faculty are welcome to come by throughout the day to bid the bear farewell and receive one last free hug. \n\n\nhttps://today.coloradocollege.edu/events/9130
DTEND:20250916T173000Z
LOCATION:Barnes 3rd floor
DTSTART:20250916T163000Z
SUMMARY:Retirement Party for Anthro Department Stuffed Bear
UID:6978b6c8-c761-40e7-8aa8-910e63df91c4
END:VEVENT
END:VCALENDAR