BEGIN:VCALENDAR
VERSION:2.0
PRODID:ics.py - http://git.io/lLljaA
BEGIN:VEVENT
DESCRIPTION:Join the Political Science Department in our main space (Palmer 22) for cookies and pocket constitutions on Wednesday\, September 17th from 9am to noon! We will be celebrating the end of the block and speaking about the Constitution in the present moment.\n\nhttps://today.coloradocollege.edu/events/9131
DTEND:20250917T180000Z
LOCATION:Palmer 22
DTSTART:20250917T150000Z
SUMMARY:Constitution Day
UID:4c169098-601f-435e-a43e-c72ce0bca02d
END:VEVENT
END:VCALENDAR