BEGIN:VCALENDAR
VERSION:2.0
PRODID:ics.py - http://git.io/lLljaA
BEGIN:VEVENT
DESCRIPTION:Join the CC Catholic Community for Mass in Shove Chapel on Sundays at 8 p.m. All are welcome! You can enter the chapel by key card access through the accessible entrance on the north side. Please note that once a month the CC Catholic Community will go the Newman Center up at UCCS for Mass (Oct. 5\, Nov. 2\, and Dec. 7). Rides will be provided these days. Questions? Contact <a href="mailto:kholbrook@coloradocollege.edu">kholbrook@coloradocollege.edu</a>\n \n\n\nBlock 2 - Sept. 28 – Shove Chapel\, CC\nBlock 2 - Oct. 5 – Newman Center 12:00 p.m. (leave from the Shove Chapel Circle at 11:30 am\nBlock 2 - Oct. 12  -Shove Chapel\, CC\nBlock 2 - Oct. 19 – Shove Chapel\, CC\n\n\nBlock 3 – Oct. 26 – Shove Chapel\, CC\nBlock 3 - Nov. 2 – Newman Center 12:00 p.m. (leave from the Shove Chapel Circle at 11:30 am)\nBlock 3 - Nov. 9 – Shove Chapel\, CC\nBlock 3 - Nov. 16 – Shove Chapel\, CC\n\n\nBlock 4 - Nov. 30 – Shove Chapel\, CC\nBlock 4 - Dec. 7 – Newman Center 12:00 p.m.(leave from the Shove Chapel Circle at 11:30 am)\nBlock 4 - Dec. 14 – Shove Chapel\, CC\n\n\nhttps://today.coloradocollege.edu/events/9133
DTEND:20250929T030000Z
LOCATION:Shove Memorial Chapel
DTSTART:20250929T020000Z
SUMMARY:Catholic Mass
UID:d0967709-8f18-4b74-8630-29ed6385bfd2
END:VEVENT
END:VCALENDAR