BEGIN:VCALENDAR
VERSION:2.0
PRODID:ics.py - http://git.io/lLljaA
BEGIN:VEVENT
DESCRIPTION:Join the CC Catholic Community for Mass in Shove Chapel on Sundays at 8 p.m. All are welcome! You can enter the chapel by key card access through the accessible entrance on the north side. Please note that once a month the CC Catholic Community will go the Newman Center up at UCCS for Mass (Oct. 5\, Nov. 2\, and Dec. 7). Rides will be provided these days. Questions? Contact <a href="mailto:kholbrook@coloradocollege.edu">kholbrook@coloradocollege.edu</a>\n\nBlock 4- Nov. 30 – Shove Chapel\, CC\nBlock 4 - Dec. 7 – Newman Center 12:00 p.m.(leave from the Shove Chapel Circle at 11:30 am)\nBlock 4 - Dec. 14 – Shove Chapel\, CC\n\n\nhttps://today.coloradocollege.edu/events/9139
DTEND:20251201T040000Z
LOCATION:Shove Memorial Chapel
DTSTART:20251201T030000Z
SUMMARY:Catholic Mass
UID:7362a510-c5f9-43e5-b6b4-45d526a31e2e
END:VEVENT
END:VCALENDAR