BEGIN:VCALENDAR
VERSION:2.0
PRODID:ics.py - http://git.io/lLljaA
BEGIN:VEVENT
DESCRIPTION:\n\nhttps://today.coloradocollege.edu/events/9142
DTEND:20251022T210000Z
LOCATION:Shove Side Chapel
DTSTART:20251022T190000Z
SUMMARY:Nap Time
UID:90db62bc-4b8b-4007-9c38-d23d4e415635
END:VEVENT
END:VCALENDAR