BEGIN:VCALENDAR
VERSION:2.0
PRODID:ics.py - http://git.io/lLljaA
BEGIN:VEVENT
DESCRIPTION:United States Air Force Academy Band presents “Songs &amp\; Echoes” \nA Chamber Recital on Monday\, Sep. 29 at 7 p.m. in Packard Hall\n\n\n\n\n\nhttps://today.coloradocollege.edu/events/9158
DTEND:20250930T023000Z
LOCATION:Packard Performance Hall
DTSTART:20250930T010000Z
SUMMARY:United States Air Force Academy Band Chamber Recital
UID:b2a7a5d1-8e71-42d1-905c-8b9e75f08ede
END:VEVENT
END:VCALENDAR