BEGIN:VCALENDAR
VERSION:2.0
PRODID:ics.py - http://git.io/lLljaA
BEGIN:VEVENT
DESCRIPTION:Residential Experiences invites you to stop by the Mathias Hall Lobby on Monday\, September 29\, from 4:00–6:00 p.m. to explore our exciting new renovations and refreshed student spaces. Enjoy refreshments and hors d’oeuvres while connecting with the community—we’d love to see you there!\n \n\nhttps://today.coloradocollege.edu/events/9161
DTEND:20250930T000000Z
LOCATION:Mathias Hall
DTSTART:20250929T220000Z
SUMMARY:Join Us for an Open House in Mathias Lobby!
UID:dc8a1c95-f04a-4bd0-a332-1ed74790225a
END:VEVENT
END:VCALENDAR