BEGIN:VCALENDAR
VERSION:2.0
PRODID:ics.py - http://git.io/lLljaA
BEGIN:VEVENT
DESCRIPTION:\n\nhttps://today.coloradocollege.edu/events/9163
DTEND:20251005T000000Z
LOCATION:Tim Fuller Event Space - Tutt Library 201
DTSTART:20251004T230000Z
SUMMARY:Community of Color Homecoming Reception
UID:cb90016b-3ae2-4d96-9c5e-ffdc3b6b92a5
END:VEVENT
END:VCALENDAR