BEGIN:VCALENDAR
VERSION:2.0
PRODID:ics.py - http://git.io/lLljaA
BEGIN:VEVENT
DESCRIPTION:B-Side Arts Collective is screening The Encampments\, a documentary on Columbia University that spotlights student activism. \n \nAs an act of remembrance\, revitalization\, and invigoration\, this film will be screened on Tava quad\, the same space as the encampments organized by students at Colorado College in the spring of 2024. \n \nSelf-serve food from Heart of Jerusalem will be provided. Please bring picnic blankets and warm clothing. \n\nhttps://today.coloradocollege.edu/events/9164
DTEND:20250930T030000Z
LOCATION:Tava Quad
DTSTART:20250930T010000Z
SUMMARY:B-Side Screens "The Encampments"
UID:6313e7e9-aa97-4f7f-905c-5d9ea8d99373
END:VEVENT
END:VCALENDAR