BEGIN:VCALENDAR
VERSION:2.0
PRODID:ics.py - http://git.io/lLljaA
BEGIN:VEVENT
DESCRIPTION:This is the day you were all waiting for - Friday. Come by upstairs Worner at 7:45PM today to play board games (Catan\, Ticket to Ride\, Secret H-ler\, Codenames or almost any other you could imagine) and enjoy a variety of snacks and candy.\n\nhttps://today.coloradocollege.edu/events/9165
DTEND:20250927T064500Z
LOCATION:Upstairs Worner
DTSTART:20250927T014500Z
SUMMARY:Board Game Club
UID:5791f930-88c8-4c8a-922b-25a2a9516491
END:VEVENT
END:VCALENDAR