BEGIN:VCALENDAR
VERSION:2.0
PRODID:ics.py - http://git.io/lLljaA
BEGIN:VEVENT
DESCRIPTION:Join the Catholic Community for Mass this Sunday at 8 p.m. in Shove Chapel. All are welcome! The Catholic Community values the many ways students connect to their faith. Sponsored by the Catholic Community.\n\nhttps://today.coloradocollege.edu/events/9166
DTEND:20250929T030000Z
LOCATION:Shove Memorial Chapel
DTSTART:20250929T020000Z
SUMMARY:Catholic Mass - Sunday @ 8 p.m.
UID:21d0ad80-f3a4-434d-9042-5e8a8f454ca2
END:VEVENT
END:VCALENDAR