BEGIN:VCALENDAR
VERSION:2.0
PRODID:ics.py - http://git.io/lLljaA
BEGIN:VEVENT
DESCRIPTION:\n\nhttps://today.coloradocollege.edu/events/9168
DTEND:20250929T230000Z
LOCATION:Interfaith House
DTSTART:20250929T220000Z
SUMMARY:Revolutionary Love Project
UID:2ecc6fc4-78ca-4dc2-bb53-3792e64ecbc1
END:VEVENT
END:VCALENDAR