BEGIN:VCALENDAR
VERSION:2.0
PRODID:ics.py - http://git.io/lLljaA
BEGIN:VEVENT
DESCRIPTION:\n\nhttps://today.coloradocollege.edu/events/9170
DTEND:20250928T033000Z
LOCATION:Kathryn Mohrman Theatre
DTSTART:20250928T013000Z
SUMMARY:Stories from Home
UID:92de9f0f-f771-4da2-8ec5-944249127258
END:VEVENT
END:VCALENDAR