BEGIN:VCALENDAR
VERSION:2.0
PRODID:ics.py - http://git.io/lLljaA
BEGIN:VEVENT
DESCRIPTION:\n\nhttps://today.coloradocollege.edu/events/9174
DTEND:20251005T170000Z
LOCATION:Sacred Grounds
DTSTART:20251005T160000Z
SUMMARY:Quaker Community First Meeting
UID:f3362483-3789-4f95-a480-8523f8f4a90a
END:VEVENT
END:VCALENDAR