BEGIN:VCALENDAR
VERSION:2.0
PRODID:ics.py - http://git.io/lLljaA
BEGIN:VEVENT
DESCRIPTION:\n\nhttps://today.coloradocollege.edu/events/9176
DTEND:20251006T230000Z
LOCATION:Interfaith House
DTSTART:20251006T220000Z
SUMMARY:Revolutionary Love
UID:485ce061-1986-4453-9725-9fd3bd6906ab
END:VEVENT
END:VCALENDAR