BEGIN:VCALENDAR
VERSION:2.0
PRODID:ics.py - http://git.io/lLljaA
BEGIN:VEVENT
DESCRIPTION:\n\nhttps://today.coloradocollege.edu/events/9187
DTEND:20251004T020000Z
LOCATION:Lennox Lounge
DTSTART:20251004T000000Z
SUMMARY:Wild West Night with the Board Game Club
UID:38a1d32b-8c15-44a0-b85c-900e981f3e9a
END:VEVENT
END:VCALENDAR