BEGIN:VCALENDAR
VERSION:2.0
PRODID:ics.py - http://git.io/lLljaA
BEGIN:VEVENT
DESCRIPTION:Join us!\nThe Advising Hub invites you to our fall mixer on Wednesday\, October 15th\, 2-4pm in the Hybl Community Space. Enjoy food\, drinks and conversation. We are excited to work with you this year!\n\nhttps://today.coloradocollege.edu/events/9189
DTEND:20251003T220000Z
LOCATION:Hybl Community Center Main Space
DTSTART:20251003T200000Z
SUMMARY:Advising Hub Faculty Mixer: October 15
UID:b9546ce6-1df8-4c21-bec1-b8a77c205ce1
END:VEVENT
END:VCALENDAR