BEGIN:VCALENDAR
VERSION:2.0
PRODID:ics.py - http://git.io/lLljaA
BEGIN:VEVENT
DESCRIPTION:FMS is hosting two of its alum this homecoming weekend for a short panel. Come view their short films and listen to their talks afterwards. Reception + Food following! \n\nhttps://today.coloradocollege.edu/events/9190
DTEND:20251003T210000Z
LOCATION:Cornerstone 131 (Screening Room)
DTSTART:20251003T200000Z
SUMMARY:The Art of Short Film Storytelling
UID:55736a99-9ccd-4085-9759-db7979511f42
END:VEVENT
END:VCALENDAR