BEGIN:VCALENDAR
VERSION:2.0
PRODID:ics.py - http://git.io/lLljaA
BEGIN:VEVENT
DESCRIPTION:Care Collective is a space for CC community members to replenish their cups in community\, to give and receieve nourishment so we can expand our capacity to be in the world through turbulent and changing times. When you're in need of medicine\, or have medicine you'd like to share - whether that be meditation\, a slow walk\, poetry\, music\, movement practices\, or other forms of art -\nthere is space for you in the Care Collective.\n\nBlock 3 Meetings:\nThursday\, October 23rd\nThursday\, October 30th\nThursday\, November 6th\n4-5pm in the Interfaith House\n(1025 N. Nevada)\n\nFeel free to reach out to sh harrison@coloradocollege.edu or\ne boydbrocker@coloradocollege.edu\n\nhttps://today.coloradocollege.edu/events/9212
DTEND:20251021T231500Z
LOCATION:Interfaith House
DTSTART:20251021T221500Z
SUMMARY:Care Collective 
UID:7535bc6e-9161-4494-9d87-18dc088fd4b5
END:VEVENT
END:VCALENDAR