BEGIN:VCALENDAR
VERSION:2.0
PRODID:ics.py - http://git.io/lLljaA
BEGIN:VEVENT
DESCRIPTION:On Thursday of block break\, join fellow faculty in the Cossitt Commons Lounge for light breakfast and informal conversation about the block just finished or yet to come. There is no agenda for the morning other than to connect with each other. No RSVP needed. We look forward to seeing you!\n\nhttps://today.coloradocollege.edu/events/9218
DTEND:20251113T173000Z
LOCATION:Cossitt Faculty Lounge
DTSTART:20251113T153000Z
SUMMARY:Crown Center Block Break Breakfast 
UID:ffff6fb5-5884-4338-8768-33c1cbe170fe
END:VEVENT
END:VCALENDAR