BEGIN:VCALENDAR
VERSION:2.0
PRODID:ics.py - http://git.io/lLljaA
BEGIN:VEVENT
DESCRIPTION:\nSTEM students\, come learn how to prepare a winning application for a fully-funded research internship in Germany for Summer 2026! Apply by November 30. \n\nRISE stands for Research Internships in Science and Engineering. <a href="https://www.daad.de/rise/en/rise-germany/">RISE Germany</a> offers undergraduate students from North American\, British and Irish universities the opportunity to complete a summer research internship at top German universities and research institutions. RISE Germany is funded by the German Federal Foreign Office.\n\n\nStudents are matched with a host university or institute according to their area of interest (biology\, chemistry\, physics\, earth sciences\, engineering\, or a closely related field)\nDAAD provides students a monthly stipend for three months to help cover living expenses\nHost universities\, universities of applied sciences (UAS) and institutes provide housing assistance and match students with Ph.D. student mentors or researchers (only UAS)\nGerman language is not required and the working language will be in English\n\nCome learn about this and other science-related opportunities abroad\, in Germany and around the world!  🍕 There will be PIZZA 🍕\n\nhttps://today.coloradocollege.edu/events/9239
DTEND:20251022T191500Z
LOCATION:Tutt Science 122 (Lecture Hall)
DTSTART:20251022T181500Z
SUMMARY:🧬 Apply for funded science research internships in Germany this summer! Info Session  🍕
UID:b6376a67-4caa-42e3-b0e4-8f758948cb52
END:VEVENT
END:VCALENDAR