BEGIN:VCALENDAR
VERSION:2.0
PRODID:ics.py - http://git.io/lLljaA
BEGIN:VEVENT
DESCRIPTION:\n\nhttps://today.coloradocollege.edu/events/9276
DTEND:20251031T200000Z
LOCATION:Worner Quad
DTSTART:20251031T180000Z
SUMMARY:NMDP Tabling Event
UID:0c449f66-1d6a-464d-a5bc-e6a5ea78abab
END:VEVENT
END:VCALENDAR