BEGIN:VCALENDAR
VERSION:2.0
PRODID:ics.py - http://git.io/lLljaA
BEGIN:VEVENT
DESCRIPTION:First Years: come watch Shrek in the Mathias movie room tonight from 6-8! There will be free pizza\, condoms\, narcan\, fentanyl test strips\, and drug info cards.\n\nhttps://today.coloradocollege.edu/events/9277
DTEND:20251101T020000Z
LOCATION:Mathias Movie Room
DTSTART:20251101T000000Z
SUMMARY:Shrek Movie Night
UID:141b2208-882f-4cea-92c7-1ce620d6504a
END:VEVENT
END:VCALENDAR