BEGIN:VCALENDAR
VERSION:2.0
PRODID:ics.py - http://git.io/lLljaA
BEGIN:VEVENT
DESCRIPTION:On Dec. 1\, come by C-Space for an afternoon of "3D Experiences". This sensory\, tactile drop-in session will focus on unexpected connections and curiosity as we turn past experiences into 3D structures. \n\nMonday Dec. 1 from 3-4 pm \n232 E. Cache La Poudre St.  \nNorthwest corner of Cache &amp\; Weber\n\nhttps://today.coloradocollege.edu/events/9299
DTEND:20251201T230000Z
LOCATION:C-Space
DTSTART:20251201T220000Z
SUMMARY:Build 3D Experiences in C-Space
UID:4106312e-b830-4c1d-8c8d-4f14f7b8850e
END:VEVENT
END:VCALENDAR