BEGIN:VCALENDAR
VERSION:2.0
PRODID:ics.py - http://git.io/lLljaA
BEGIN:VEVENT
DESCRIPTION:B-Side Arts Collective and the Sounds of Colorado College present Coral Grief! \n\nSeattle based\, B-Side alum member band CORAL GRIEF is making a stop on their tour celebrating their amazing new release\, "Air Between Us"\, to bring us a dreamy lunch time concert at 1 pm on Tuesday\, November 11! Join us in the B-Side space (McGregor Basement) for awesome vibes and even more awesome music! free pizza lunch as well!\n\nhttps://today.coloradocollege.edu/events/9311
DTEND:20251111T210000Z
LOCATION:McGregor Basement
DTSTART:20251111T200000Z
SUMMARY:CORAL GRIEF CONCERT
UID:40c6bd4c-37c1-489c-b061-06c50b959fec
END:VEVENT
END:VCALENDAR