BEGIN:VCALENDAR
VERSION:2.0
PRODID:ics.py - http://git.io/lLljaA
BEGIN:VEVENT
DESCRIPTION:\n\nJoin OCA in watching a few food related films (Philms)\, get a free pasta lunch\, and work on some puzzles for a nice relaxing afternoon in the Student Event Space on the bottom floor of Worner. The food and first film will start at 12pm and go until about 4pm. \n\nEmail campusactivities@coloradocollege.edu with any questions.\n\nhttps://today.coloradocollege.edu/events/9312
DTEND:20251113T230000Z
LOCATION:Student Event Space (Basement of Worner)
DTSTART:20251113T190000Z
SUMMARY:Puzzles\, Pasta\, & Philms
UID:0791236e-87e3-4e20-a02e-51612a31bf44
END:VEVENT
END:VCALENDAR