BEGIN:VCALENDAR
VERSION:2.0
PRODID:ics.py - http://git.io/lLljaA
BEGIN:VEVENT
DESCRIPTION:\n\nhttps://today.coloradocollege.edu/events/9314
DTEND:20251202T001500Z
LOCATION:Interfaith House
DTSTART:20251201T231500Z
SUMMARY:Care Collective
UID:7124bab8-2beb-421a-bbab-d761582f941f
END:VEVENT
END:VCALENDAR