BEGIN:VCALENDAR
VERSION:2.0
PRODID:ics.py - http://git.io/lLljaA
BEGIN:VEVENT
DESCRIPTION: This event is open to the general public.  https://www.coloradocollege.edu/newsevents/calendar/details.html?EventID=65095&amp\;booking=1\n\nhttps://today.coloradocollege.edu/events/9388
DTEND:20260301T220000Z
LOCATION: - 
DTSTART:20260301T200000Z
SUMMARY:Women's Lacrosse CC vs. Johnson & Wales
UID:ba9d6f2d-e793-4bfe-9255-57d1ab70a420
END:VEVENT
END:VCALENDAR