BEGIN:VCALENDAR
VERSION:2.0
PRODID:ics.py - http://git.io/lLljaA
BEGIN:VEVENT
DESCRIPTION:Faculty and staff are invited to attend Colorado College Director of Global Education Drew Cavin's Faculty Lunch talk "Get on the Bus: The past\, present\, and future of course field trips at CC". Registration is required and lunch will be provided.\n\nPlease register by Wednesday\, February 25.\n\nDrew Cavin is the Director of Field Study and Mountain Campuses\, and Lecturer in EV\, and has a PhD in Recreation\, Parks\, and Tourism Science from Texas A&amp\;M University. He has been an Outdoor and Experiential Educator for 2 plus decades. He enjoys doing all manner of outdoor activities with his family and friends.\n\nThis talk will take us through a brief history of field trips at CC\, cover the present state of field trips at CC via an in depth qualitative and quantitative examination of field trip outcomes and impacts on students. We will talk about what makes field trips such a unique and valuable part of CC’s offerings. We will also look at opportunities and threats to field trips into the future. \n\nFaculty Lunch Series 25-26:\n\nThe Faculty Lunch Series is sponsored by the Academic Events Committee (AEC) and the Office of the Dean of the Faculty. All events will take place from 12:15 - 1:30 p.m. in Bemis Great Hall besides Faculty Lunch Block 1 in Gaylord Hall. Please see all dates for this Academic Year listed below:\n\nBlock 1: Tuesday\, September 9\, 2025\n\nBlock 2: Tuesday\, October 7\, 2025\n\nBlock 3: Tuesday\, November 4\, 2025\n\nBlock 4: Tuesday\, December 9\, 2025\n\nBlock 5: Tuesday\, February 3\, 2026\n\nBlock 6: Tuesday\, March 3\, 2026\n\nBlock 7: Tuesday\, April 7\, 2026\n\nBlock 8: Wednesday\, May 6\, 2026 This event is not open to the general public.  https://www.coloradocollege.edu/newsevents/calendar/details.html?EventID=63881&amp\;booking=1\n\nhttps://today.coloradocollege.edu/events/9390
DTEND:20260303T203000Z
LOCATION:Bemis Great Hall - 920 N. Cascade Ave. (west of Cutler Hall)
DTSTART:20260303T191500Z
SUMMARY:Faculty Lunch Block 6: Colorado College Director Global Education Drew Cavin
UID:7272881b-5009-4c2d-940b-e77481eab3e2
END:VEVENT
END:VCALENDAR