BEGIN:VCALENDAR
VERSION:2.0
PRODID:ics.py - http://git.io/lLljaA
BEGIN:VEVENT
DESCRIPTION: This event is open to the general public.  https://www.coloradocollege.edu/newsevents/calendar/details.html?EventID=65096&amp\;booking=1\n\nhttps://today.coloradocollege.edu/events/9391
DTEND:20260303T210000Z
LOCATION: - 
DTSTART:20260303T210000Z
SUMMARY:Men's Lacrosse CC vs. John Carroll
UID:d7b67018-7114-457c-8f4a-d103d5644ff6
END:VEVENT
END:VCALENDAR