BEGIN:VCALENDAR
VERSION:2.0
PRODID:ics.py - http://git.io/lLljaA
BEGIN:VEVENT
DESCRIPTION:Quick question about classes\, majors\, academics\, planning\, campus involvement? Ask us anything!\n\nThe Hub is here to help! This event is not open to the general public.  https://www.coloradocollege.edu/newsevents/calendar/details.html?EventID=64622&amp\;booking=1\n\nhttps://today.coloradocollege.edu/events/9401
DTEND:20260423T193000Z
LOCATION: - 
DTSTART:20260423T180000Z
SUMMARY:Advising Hub Pop-Ups
UID:df47ca19-62d7-4b0e-8198-3cad02e13ae4
END:VEVENT
END:VCALENDAR