BEGIN:VCALENDAR
VERSION:2.0
PRODID:ics.py - http://git.io/lLljaA
BEGIN:VEVENT
DESCRIPTION: This event is open to the general public.  https://www.coloradocollege.edu/newsevents/calendar/details.html?EventID=65113&amp\;booking=1\n\nhttps://today.coloradocollege.edu/events/9402
DTEND:20260425T180000Z
LOCATION: - 
DTSTART:20260425T170000Z
SUMMARY:Women's Lacrosse CC vs. UW-Eau Claire
UID:944d475c-0874-4aae-9331-30c7d39378f2
END:VEVENT
END:VCALENDAR