BEGIN:VCALENDAR
VERSION:2.0
PRODID:ics.py - http://git.io/lLljaA
BEGIN:VEVENT
DESCRIPTION:Come craft over Fall Break\, watch a movie\, and get some snacks! We will have watercolor painting\, layered paper art\, and fall garlands!\n\n\n\nhttps://today.coloradocollege.edu/events/9414
DTEND:20251126T030000Z
LOCATION:Arts & Crafts Studio
DTSTART:20251126T010000Z
SUMMARY:Movie Night @ Arts and Crafts
UID:b78df3b3-131e-4a1b-a6e9-25f5c487aea6
END:VEVENT
END:VCALENDAR