BEGIN:VCALENDAR
VERSION:2.0
PRODID:ics.py - http://git.io/lLljaA
BEGIN:VEVENT
DESCRIPTION:The CC Food Pantry will be open from 1-3pm on Wednesday\, November 26th during Fall Break. If you are in need of some food\, please come on by and grab what you need for the break!\n\nhttps://today.coloradocollege.edu/events/9415
DTEND:20251126T220000Z
LOCATION:CC Food Pantry (Worner Ground Floor)
DTSTART:20251126T200000Z
SUMMARY:Food Pantry Open Over Fall Break
UID:3bd193c3-f7ef-4c7f-9ef1-8d2fd87ce5d6
END:VEVENT
END:VCALENDAR