BEGIN:VCALENDAR
VERSION:2.0
PRODID:ics.py - http://git.io/lLljaA
BEGIN:VEVENT
DESCRIPTION:\n\nhttps://today.coloradocollege.edu/events/9505
DTEND:20260304T010000Z
LOCATION:Sacred Grounds
DTSTART:20260304T000000Z
SUMMARY:Soup! Soup! Soup!
UID:7bb1a95f-ee74-48ff-bfb4-b2a430768fea
END:VEVENT
END:VCALENDAR