BEGIN:VCALENDAR
VERSION:2.0
PRODID:ics.py - http://git.io/lLljaA
BEGIN:VEVENT
DESCRIPTION:\n\n\n\n\n\n\nOn Thursday\, Jan. 15\, faculty and staff portraits are available from 9:30a-4:30p in five-minute increments\, with photographer break from noon to 1p. Please do not sign up for a slot if you've had your portraits taken in the past two years. Portraits are for faculty and staff only\, please.\n\n<a href="https://www.signupgenius.com/go/10C0544A5A722AAFAC43-60085964-staff#/">https://www.signupgenius.com/go/10C0544A5A722AAFAC43-60085964-staff#/</a>\n\n\n\n\n\n\n\n\nhttps://today.coloradocollege.edu/events/9510
DTEND:20260107T233000Z
LOCATION:Yalich Boardroom\, 1st Floor Spencer Center
DTSTART:20260107T163000Z
SUMMARY:Upcoming Faculty & Staff Portraits 2025/2026 - reserve your spot today!
UID:b9be78e8-6450-462e-90fc-e98dd3decf3e
END:VEVENT
END:VCALENDAR