BEGIN:VCALENDAR
VERSION:2.0
PRODID:ics.py - http://git.io/lLljaA
BEGIN:VEVENT
DESCRIPTION:Economics and Business Department Senior Thesis Poster Presentation This event is not open to the general public.  https://www.coloradocollege.edu/newsevents/calendar/details.html?EventID=66179&amp\;booking=1\n\nhttps://today.coloradocollege.edu/events/9525
DTEND:20260424T200000Z
LOCATION: - 
DTSTART:20260424T170000Z
SUMMARY:Economics and Business Thesis Poster presentation
UID:1fc9e698-329d-4150-bc8d-8783cb45d0ea
END:VEVENT
END:VCALENDAR